BEGIN:VCALENDAR
VERSION:2.0
PRODID:-//Senioren Akademie - ECPv6.15.20//NONSGML v1.0//EN
CALSCALE:GREGORIAN
METHOD:PUBLISH
X-WR-CALNAME:Senioren Akademie
X-ORIGINAL-URL:https://www.digitale-teilhabe.com
X-WR-CALDESC:Veranstaltungen für Senioren Akademie
REFRESH-INTERVAL;VALUE=DURATION:PT1H
X-Robots-Tag:noindex
X-PUBLISHED-TTL:PT1H
BEGIN:VTIMEZONE
TZID:Europe/Berlin
BEGIN:DAYLIGHT
TZOFFSETFROM:+0100
TZOFFSETTO:+0200
TZNAME:CEST
DTSTART:20240331T010000
END:DAYLIGHT
BEGIN:STANDARD
TZOFFSETFROM:+0200
TZOFFSETTO:+0100
TZNAME:CET
DTSTART:20241027T010000
END:STANDARD
BEGIN:DAYLIGHT
TZOFFSETFROM:+0100
TZOFFSETTO:+0200
TZNAME:CEST
DTSTART:20250330T010000
END:DAYLIGHT
BEGIN:STANDARD
TZOFFSETFROM:+0200
TZOFFSETTO:+0100
TZNAME:CET
DTSTART:20251026T010000
END:STANDARD
BEGIN:DAYLIGHT
TZOFFSETFROM:+0100
TZOFFSETTO:+0200
TZNAME:CEST
DTSTART:20260329T010000
END:DAYLIGHT
BEGIN:STANDARD
TZOFFSETFROM:+0200
TZOFFSETTO:+0100
TZNAME:CET
DTSTART:20261025T010000
END:STANDARD
BEGIN:DAYLIGHT
TZOFFSETFROM:+0100
TZOFFSETTO:+0200
TZNAME:CEST
DTSTART:20270328T010000
END:DAYLIGHT
BEGIN:STANDARD
TZOFFSETFROM:+0200
TZOFFSETTO:+0100
TZNAME:CET
DTSTART:20271031T010000
END:STANDARD
END:VTIMEZONE
BEGIN:VEVENT
DTSTART;TZID=Europe/Berlin:20251112T100000
DTEND;TZID=Europe/Berlin:20260625T050000
DTSTAMP:20260421T120229
CREATED:20251110T153536Z
LAST-MODIFIED:20251112T084851Z
UID:10000893-1762941600-1782363600@www.digitale-teilhabe.com
SUMMARY:Telefonische Beratung Weil am Rhein\, Eimeldingen\, Binzen
DESCRIPTION:Jeden Mittwoch von 10-13 Uhr \nMike Wechlin\n07621/64935\nmike.wechlin@t-online.de
URL:https://www.digitale-teilhabe.com/veranstaltungen-archiv/telefonische-beratung-weil-am-rhein-eimeldinge-binzen-2/2025-11-12/4/
LOCATION:Freiburg
END:VEVENT
BEGIN:VEVENT
DTSTART;TZID=Europe/Berlin:20260429T180000
DTEND;TZID=Europe/Berlin:20260429T193000
DTSTAMP:20260421T120229
CREATED:20260212T134042Z
LAST-MODIFIED:20260216T114306Z
UID:10001176-1777485600-1777491000@www.digitale-teilhabe.com
SUMMARY:Online-Vortragsreihe
DESCRIPTION:Online-Vortragsreihe „gesund und digital 2026“ \nDas Projekt „gesund und digital vor Ort“ wird im Rahmen des Programms BELL durch das Bundesministerium für Bildung\, Familie\, Senioren\, Frauen und Jugend und durch die Europäische Union über den Europäischen Sozialfonds Plus  (ESF Plus) gefördert. \nThemen im Überblick\n •  Elektronische Patientenakte\n •  E-Rezept\n •  Gesundheits-Apps\n •  Datenschutz\n •  Künstliche Intelligenz\n •  Pflege & intelligentes Wohnen\n •  Telemedizin\n •  … und vieles mehr! \nSie finden alle Termine im Flyer: \nZum Flyer
URL:https://www.digitale-teilhabe.com/veranstaltungen-archiv/online-vortragsreihe-2/2026-04-29/
LOCATION:Freiburg
END:VEVENT
BEGIN:VEVENT
DTSTART;TZID=Europe/Berlin:20260512T143000
DTEND;TZID=Europe/Berlin:20260512T163000
DTSTAMP:20260421T120229
CREATED:20260414T074116Z
LAST-MODIFIED:20260414T074116Z
UID:10001183-1778596200-1778603400@www.digitale-teilhabe.com
SUMMARY:DigitalTreff Zell i.W. - Bildschirmübertragung von Smartphone zu Fernsehgerät
DESCRIPTION:Fotos\, Videos oder Apps vom Smartphone auf den großen Bildschirm ansehen. Jede Person mit einem modernen Smartphone und einem Smart-TV (einem Fernsehgerat\, das einen Anschluss zum Internet hat)\, sowie eine Verbindung beider Geräte mit dem gleichen WLAN kann den Smartphone-Bildschirm auf den Fernseher spiegeln. Eine Schritt-für-Schritt-Anleitung dazu gibt’s in unserer digitalen Sprechstunde.
URL:https://www.digitale-teilhabe.com/veranstaltungen-archiv/digitaltreff-zell-i-w-bildschirmuebertragung-von-smartphone-zu-fernsehgeraet/
LOCATION:Café am Hans-Fräulin-Platz\, L140 7\, Zell im Wiesental\, Freiburg\, 79669\, Germany
ORGANIZER;CN="Seniorenakademie Hochrhein-Wiesental e.V.":MAILTO:info@seniorenakademie-hw.de
GEO:47.7171609;7.8365994
X-APPLE-STRUCTURED-LOCATION;VALUE=URI;X-ADDRESS=Café am Hans-Fräulin-Platz L140 7 Zell im Wiesental Freiburg 79669 Germany;X-APPLE-RADIUS=500;X-TITLE=L140 7:geo:7.8365994,47.7171609
END:VEVENT
BEGIN:VEVENT
DTSTART;TZID=Europe/Berlin:20260520T180000
DTEND;TZID=Europe/Berlin:20260520T193000
DTSTAMP:20260421T120229
CREATED:20260212T134042Z
LAST-MODIFIED:20260216T114306Z
UID:10001177-1779300000-1779305400@www.digitale-teilhabe.com
SUMMARY:Online-Vortragsreihe
DESCRIPTION:Online-Vortragsreihe „gesund und digital 2026“ \nDas Projekt „gesund und digital vor Ort“ wird im Rahmen des Programms BELL durch das Bundesministerium für Bildung\, Familie\, Senioren\, Frauen und Jugend und durch die Europäische Union über den Europäischen Sozialfonds Plus  (ESF Plus) gefördert. \nThemen im Überblick\n •  Elektronische Patientenakte\n •  E-Rezept\n •  Gesundheits-Apps\n •  Datenschutz\n •  Künstliche Intelligenz\n •  Pflege & intelligentes Wohnen\n •  Telemedizin\n •  … und vieles mehr! \nSie finden alle Termine im Flyer: \nZum Flyer
URL:https://www.digitale-teilhabe.com/veranstaltungen-archiv/online-vortragsreihe-2/2026-05-20/
LOCATION:Freiburg
END:VEVENT
BEGIN:VEVENT
DTSTART;TZID=Europe/Berlin:20260624T180000
DTEND;TZID=Europe/Berlin:20260624T193000
DTSTAMP:20260421T120229
CREATED:20260212T134042Z
LAST-MODIFIED:20260216T114306Z
UID:10001181-1782324000-1782329400@www.digitale-teilhabe.com
SUMMARY:Online-Vortragsreihe
DESCRIPTION:Online-Vortragsreihe „gesund und digital 2026“ \nDas Projekt „gesund und digital vor Ort“ wird im Rahmen des Programms BELL durch das Bundesministerium für Bildung\, Familie\, Senioren\, Frauen und Jugend und durch die Europäische Union über den Europäischen Sozialfonds Plus  (ESF Plus) gefördert. \nThemen im Überblick\n •  Elektronische Patientenakte\n •  E-Rezept\n •  Gesundheits-Apps\n •  Datenschutz\n •  Künstliche Intelligenz\n •  Pflege & intelligentes Wohnen\n •  Telemedizin\n •  … und vieles mehr! \nSie finden alle Termine im Flyer: \nZum Flyer
URL:https://www.digitale-teilhabe.com/veranstaltungen-archiv/online-vortragsreihe-2/2026-06-24/
LOCATION:Freiburg
END:VEVENT
BEGIN:VEVENT
DTSTART;TZID=Europe/Berlin:20260715T180000
DTEND;TZID=Europe/Berlin:20260715T193000
DTSTAMP:20260421T120229
CREATED:20260212T134042Z
LAST-MODIFIED:20260216T114306Z
UID:10001178-1784138400-1784143800@www.digitale-teilhabe.com
SUMMARY:Online-Vortragsreihe
DESCRIPTION:Online-Vortragsreihe „gesund und digital 2026“ \nDas Projekt „gesund und digital vor Ort“ wird im Rahmen des Programms BELL durch das Bundesministerium für Bildung\, Familie\, Senioren\, Frauen und Jugend und durch die Europäische Union über den Europäischen Sozialfonds Plus  (ESF Plus) gefördert. \nThemen im Überblick\n •  Elektronische Patientenakte\n •  E-Rezept\n •  Gesundheits-Apps\n •  Datenschutz\n •  Künstliche Intelligenz\n •  Pflege & intelligentes Wohnen\n •  Telemedizin\n •  … und vieles mehr! \nSie finden alle Termine im Flyer: \nZum Flyer
URL:https://www.digitale-teilhabe.com/veranstaltungen-archiv/online-vortragsreihe-2/2026-07-15/
LOCATION:Freiburg
END:VEVENT
BEGIN:VEVENT
DTSTART;TZID=Europe/Berlin:20260930T180000
DTEND;TZID=Europe/Berlin:20260930T193000
DTSTAMP:20260421T120229
CREATED:20260212T134042Z
LAST-MODIFIED:20260216T114306Z
UID:10001179-1790791200-1790796600@www.digitale-teilhabe.com
SUMMARY:Online-Vortragsreihe
DESCRIPTION:Online-Vortragsreihe „gesund und digital 2026“ \nDas Projekt „gesund und digital vor Ort“ wird im Rahmen des Programms BELL durch das Bundesministerium für Bildung\, Familie\, Senioren\, Frauen und Jugend und durch die Europäische Union über den Europäischen Sozialfonds Plus  (ESF Plus) gefördert. \nThemen im Überblick\n •  Elektronische Patientenakte\n •  E-Rezept\n •  Gesundheits-Apps\n •  Datenschutz\n •  Künstliche Intelligenz\n •  Pflege & intelligentes Wohnen\n •  Telemedizin\n •  … und vieles mehr! \nSie finden alle Termine im Flyer: \nZum Flyer
URL:https://www.digitale-teilhabe.com/veranstaltungen-archiv/online-vortragsreihe-2/2026-09-30/
LOCATION:Freiburg
END:VEVENT
BEGIN:VEVENT
DTSTART;TZID=Europe/Berlin:20261021T180000
DTEND;TZID=Europe/Berlin:20261021T193000
DTSTAMP:20260421T120229
CREATED:20260212T134042Z
LAST-MODIFIED:20260216T114306Z
UID:10001180-1792605600-1792611000@www.digitale-teilhabe.com
SUMMARY:Online-Vortragsreihe
DESCRIPTION:Online-Vortragsreihe „gesund und digital 2026“ \nDas Projekt „gesund und digital vor Ort“ wird im Rahmen des Programms BELL durch das Bundesministerium für Bildung\, Familie\, Senioren\, Frauen und Jugend und durch die Europäische Union über den Europäischen Sozialfonds Plus  (ESF Plus) gefördert. \nThemen im Überblick\n •  Elektronische Patientenakte\n •  E-Rezept\n •  Gesundheits-Apps\n •  Datenschutz\n •  Künstliche Intelligenz\n •  Pflege & intelligentes Wohnen\n •  Telemedizin\n •  … und vieles mehr! \nSie finden alle Termine im Flyer: \nZum Flyer
URL:https://www.digitale-teilhabe.com/veranstaltungen-archiv/online-vortragsreihe-2/2026-10-21/
LOCATION:Freiburg
END:VEVENT
BEGIN:VEVENT
DTSTART;TZID=Europe/Berlin:20261125T180000
DTEND;TZID=Europe/Berlin:20261125T193000
DTSTAMP:20260421T120229
CREATED:20260212T134042Z
LAST-MODIFIED:20260216T114306Z
UID:10001174-1795629600-1795635000@www.digitale-teilhabe.com
SUMMARY:Online-Vortragsreihe
DESCRIPTION:Online-Vortragsreihe „gesund und digital 2026“ \nDas Projekt „gesund und digital vor Ort“ wird im Rahmen des Programms BELL durch das Bundesministerium für Bildung\, Familie\, Senioren\, Frauen und Jugend und durch die Europäische Union über den Europäischen Sozialfonds Plus  (ESF Plus) gefördert. \nThemen im Überblick\n •  Elektronische Patientenakte\n •  E-Rezept\n •  Gesundheits-Apps\n •  Datenschutz\n •  Künstliche Intelligenz\n •  Pflege & intelligentes Wohnen\n •  Telemedizin\n •  … und vieles mehr! \nSie finden alle Termine im Flyer: \nZum Flyer
URL:https://www.digitale-teilhabe.com/veranstaltungen-archiv/online-vortragsreihe-2/2026-11-25/
LOCATION:Freiburg
END:VEVENT
END:VCALENDAR